BEGIN:VCALENDAR
VERSION:2.0
PRODID:spatie/icalendar-generator
DESCRIPTION:Events from Hope Equine Rescue
X-WR-CALDESC:Events from Hope Equine Rescue
REFRESH-INTERVAL;VALUE=DURATION:PT1440M
X-PUBLISHED-TTL:PT1440M
BEGIN:VTIMEZONE
TZID:America/New_York
BEGIN:STANDARD
DTSTART:20251102T020000Z
TZOFFSETFROM:-0400
TZOFFSETTO:-0500
END:STANDARD
BEGIN:DAYLIGHT
DTSTART:20260308T020000Z
TZOFFSETFROM:-0500
TZOFFSETTO:-0400
END:DAYLIGHT
END:VTIMEZONE
BEGIN:VTIMEZONE
TZID:UTC
BEGIN:STANDARD
DTSTART:20250725T134232Z
TZOFFSETFROM:+0000
TZOFFSETTO:+0000
END:STANDARD
END:VTIMEZONE
BEGIN:VEVENT
UID:4-3
DTSTAMP:20260421T134232Z
SUMMARY:Reading with Rescues
LOCATION:
ORGANIZER;CN=admin:MAILTO:sclawson1282@gmail.com
DTSTART;TZID=America/New_York;VALUE=DATE:20260410
DTEND;TZID=America/New_York;VALUE=DATE:20260411
X-ALT-DESC;FMTTYPE=TEXT/HTML:Reading with Rescues is a themed monthly progr
 am where kids in grades K-6th can visit and read to our horses and donkeys
 \, make a craft or play a game\, have a pony experience and have a snack. 
 Adults must remain with your child during this event. We do provide books 
 to read but you are&amp;hellip\;
CATEGORIES:General
URL;VALUE=URI:https://hopeequinerescue.com/mc-events/reading-with-rescues-2
 /
METHOD:PUBLISH
END:VEVENT
END:VCALENDAR